BEGIN:VCALENDAR
VERSION:2.0
PRODID:-//Tortuga Collectif - ECPv6.15.17//NONSGML v1.0//EN
CALSCALE:GREGORIAN
METHOD:PUBLISH
X-WR-CALNAME:Tortuga Collectif
X-ORIGINAL-URL:https://tortuga-collectif.fr
X-WR-CALDESC:Évènements pour Tortuga Collectif
REFRESH-INTERVAL;VALUE=DURATION:PT1H
X-Robots-Tag:noindex
X-PUBLISHED-TTL:PT1H
BEGIN:VTIMEZONE
TZID:UTC
BEGIN:STANDARD
TZOFFSETFROM:+0000
TZOFFSETTO:+0000
TZNAME:UTC
DTSTART:20230101T000000
END:STANDARD
END:VTIMEZONE
BEGIN:VEVENT
DTSTART;TZID=UTC:20240501T080000
DTEND;TZID=UTC:20240624T170000
DTSTAMP:20260423T053133
CREATED:20240407T103406Z
LAST-MODIFIED:20240807T120545Z
UID:146-1714550400-1719248400@tortuga-collectif.fr
SUMMARY:Transformation de la Yourte
DESCRIPTION:Après la tempete d’Octobre\, la grosse yourte a été séverement détériorée. On va la passer en dur cet été! On refait les murs et on la transforme en une sorte de Kerterre. Pour ça on organise un gros chantier le mois de Mai. \ndu mercredi 29 Mai au Dimanche 2Juin (13H)\nAccueil 9h\, début de chantier 9H50\, fin de chantier 17H30\nFinalisation de l’ossature bois \nDu Mercedi 5 Juin au Dimanche 9 (13H)\nAccueil 9h\, début de chantier 9H50\, fin de chantier 17H30\nTorchis* \n*C’est l’occasion de se faire des masques a l’argile\, de danser \, de se retrouver! pas de compétence particulière. Cette partie du chantier recuière beaucoup de monde et de la bonne humeur ^^ \n 
URL:https://tortuga-collectif.fr/event/transformation-de-la-yourte/
ATTACH;FMTTYPE=image/jpeg:https://tortuga-collectif.fr/wp-content/uploads/2024/05/22d5fe6496b3f540d38a7e4c48a52661f1f386497fdcdda187a54b0f0161e517-1.jpg
END:VEVENT
END:VCALENDAR