BEGIN:VCALENDAR
VERSION:2.0
PRODID:-//Tortuga Collectif - ECPv6.15.17//NONSGML v1.0//EN
CALSCALE:GREGORIAN
METHOD:PUBLISH
X-WR-CALNAME:Tortuga Collectif
X-ORIGINAL-URL:https://tortuga-collectif.fr
X-WR-CALDESC:Évènements pour Tortuga Collectif
REFRESH-INTERVAL;VALUE=DURATION:PT1H
X-Robots-Tag:noindex
X-PUBLISHED-TTL:PT1H
BEGIN:VTIMEZONE
TZID:UTC
BEGIN:STANDARD
TZOFFSETFROM:+0000
TZOFFSETTO:+0000
TZNAME:UTC
DTSTART:20230101T000000
END:STANDARD
END:VTIMEZONE
BEGIN:VEVENT
DTSTART;TZID=UTC:20240817T140000
DTEND;TZID=UTC:20240817T170000
DTSTAMP:20260423T022414
CREATED:20240812T100007Z
LAST-MODIFIED:20240812T103411Z
UID:495-1723903200-1723914000@tortuga-collectif.fr
SUMMARY:Atelier de Greffe sur Pommier et Rosier - Samedi 17 Août
DESCRIPTION:Samedi 17 Août\,\nnous accueillons Jean Pierre Thieré  qui nous offre un Atelier de Greffe.\nPartitionné d’arbre et de greffe\, ancien pépiniériste et faisant parti des croqueurs de pomme\,\nJean Pierre va nous enseigner la greffe en écusson sur pommier et rosier.\nC’est la première d’une grande aventure !\nCar au fur et à mesure des années nous allons découvrir plusieurs types de greffes sur plusieurs types d’arbres à différents moment de l’année.\nJe suis très heureuse que ce projet voit enfin le jour !Intervention au chapeau\,Entrée avec adhésion à prix libre à l’asso.  \n \nArrivée pour le café conseillée à 14H\nDébut de l’activité 14H30 \nInscription recommandée par retour de mail. \nUne belle semaine à vous ! \n\nSophie pour Tortuga\n\nNb: Si vous avez du matériel pour greffer\, n’hésitez pas à l’emmener ^^
URL:https://tortuga-collectif.fr/event/atelier-de-greffe-sur-pommier-et-rosier-samedi-17-aout/
LOCATION:Hotel Louis Jean
ATTACH;FMTTYPE=image/webp:https://tortuga-collectif.fr/wp-content/uploads/2024/08/greffe-l790-h526.jpg.webp
END:VEVENT
END:VCALENDAR