BEGIN:VCALENDAR
VERSION:2.0
PRODID:-//Tortuga Collectif - ECPv6.15.17//NONSGML v1.0//EN
CALSCALE:GREGORIAN
METHOD:PUBLISH
X-ORIGINAL-URL:https://tortuga-collectif.fr
X-WR-CALDESC:Évènements pour Tortuga Collectif
REFRESH-INTERVAL;VALUE=DURATION:PT1H
X-Robots-Tag:noindex
X-PUBLISHED-TTL:PT1H
BEGIN:VTIMEZONE
TZID:UTC
BEGIN:STANDARD
TZOFFSETFROM:+0000
TZOFFSETTO:+0000
TZNAME:UTC
DTSTART:20230101T000000
END:STANDARD
END:VTIMEZONE
BEGIN:VEVENT
DTSTART;TZID=UTC:20241011T080000
DTEND;TZID=UTC:20241011T170000
DTSTAMP:20260422T233051
CREATED:20240912T095347Z
LAST-MODIFIED:20240930T081703Z
UID:518-1728633600-1728666000@tortuga-collectif.fr
SUMMARY:Tortuga Circus
DESCRIPTION:Bonjour à tous.te ! Pour accueillir l’automne avec joie et bonne humeur\, nous vous convions le 11 12 et 13 octobre pour un week-end consacré aux arts de la jongle. Au programme : des ateliers d’initiation au jonglage\, des jeux\, des spectacles\, des concerts\, et même une scène ouverte le dimanche\, le tout avec une buvette et de quoi manger. Il y aura aussi la possibilité de camper sur place pour ceux qui viennent de loin et qui n’ont pas peur des nuits fraîches.\n\nNous invitons donc tous les jongleur.euses du sud manche à apporter leurs agrés préférés.\n\n\nProgrammation :\n\n\nVendredi soir :\n\n19h30 : Jonglage (Alexis/ Sébastien)\n20h30 : Florian (guitare acoustique)\n22h : Walter Gang (rap)\n\nSamedi :\n\n14h : Ateliers jongle pour petits et grands / crêpes (avec des confitures maison) / vente de courges (parce que… parce que… POURQUOI PAS) / ballade contée (peut-être)\n17h45 : Sohalia « lune ne se laisse plus terre »\n18h45 : Philippe Leboucher « blaireau et fier de l’être »\n20h15 : « Parole d’un paysan normand » Hugo Bataille\n21h45 : « Energy Man » / spectacle\n22h15 : « André Gense et son Orchestre »\n23h15 : Pouille et Charlie (dj set) \n\nDimanche :\n\n14 h : animation cirque pour les enfants avec Aurélie / ateliers jonglage / crêpes / vente de courges / jeux\n\n17h30 : scène ouverte / jam session
URL:https://tortuga-collectif.fr/event/tortuga-circus/
ATTACH;FMTTYPE=image/jpeg:https://tortuga-collectif.fr/wp-content/uploads/2024/09/WhatsApp-Image-2024-09-13-at-11.50.51.jpeg
END:VEVENT
END:VCALENDAR