BEGIN:VCALENDAR
VERSION:2.0
PRODID:-//Tortuga Collectif - ECPv6.15.17//NONSGML v1.0//EN
CALSCALE:GREGORIAN
METHOD:PUBLISH
X-ORIGINAL-URL:https://tortuga-collectif.fr
X-WR-CALDESC:Évènements pour Tortuga Collectif
REFRESH-INTERVAL;VALUE=DURATION:PT1H
X-Robots-Tag:noindex
X-PUBLISHED-TTL:PT1H
BEGIN:VTIMEZONE
TZID:UTC
BEGIN:STANDARD
TZOFFSETFROM:+0000
TZOFFSETTO:+0000
TZNAME:UTC
DTSTART:20230101T000000
END:STANDARD
END:VTIMEZONE
BEGIN:VEVENT
DTSTART;TZID=UTC:20241016T203000
DTEND;TZID=UTC:20241016T223000
DTSTAMP:20260422T232828
CREATED:20241004T111841Z
LAST-MODIFIED:20241004T112029Z
UID:543-1729110600-1729117800@tortuga-collectif.fr
SUMMARY:Cercle de Femmes\, animé par Romane
DESCRIPTION:Rejoignez le Cercle de Femmes : Un Voyage d’Expression et de Connexion \nLe mercredi 16 octobre 2024\, de 20h30 à 22h30\, venez vivre une expérience unique au cœur de la nature\, à la Yourte de Tortuga. Ce Cercle de Femmes est un espace sacré où vous pouvez vous retrouver\, vous exprimer\, et vous reconnecter à votre corps et à votre voix. Animé par Noémie\, avec son tambour vibrant\, et Romane\, ce cercle vous invite à un moment de partage profond entre femmes. \nPourquoi participer ? \nSe libérer : Laissez libre cours à votre voix et à votre corps dans un cadre bienveillant et sans jugement. \nSe ressourcer : Un moment de connexion à soi et aux autres femmes\, pour se recentrer et s’apaiser. \nVibrer ensemble : Une soirée unique\, au son du tambour\, pour entrer en harmonie avec soi et le groupe. \nLa participation se fait sur la base d’un don libre à partir de 15 euros\, accessible à toutes. \nPour réserver votre place\, contactez-nous au :\n06 87 16 29 60 ou 06 24 76 50 00 \n 
URL:https://tortuga-collectif.fr/event/cercle-de-femmes-anime-par-romane/
ATTACH;FMTTYPE=image/jpeg:https://tortuga-collectif.fr/wp-content/uploads/2024/10/16-oct-24.jpg
END:VEVENT
END:VCALENDAR