BEGIN:VCALENDAR
VERSION:2.0
PRODID:-//Tortuga Collectif - ECPv6.15.17//NONSGML v1.0//EN
CALSCALE:GREGORIAN
METHOD:PUBLISH
X-ORIGINAL-URL:https://tortuga-collectif.fr
X-WR-CALDESC:Évènements pour Tortuga Collectif
REFRESH-INTERVAL;VALUE=DURATION:PT1H
X-Robots-Tag:noindex
X-PUBLISHED-TTL:PT1H
BEGIN:VTIMEZONE
TZID:UTC
BEGIN:STANDARD
TZOFFSETFROM:+0000
TZOFFSETTO:+0000
TZNAME:UTC
DTSTART:20230101T000000
END:STANDARD
END:VTIMEZONE
BEGIN:VEVENT
DTSTART;TZID=UTC:20241028T203000
DTEND;TZID=UTC:20241028T223000
DTSTAMP:20260422T215429
CREATED:20241021T151335Z
LAST-MODIFIED:20241021T151335Z
UID:652-1730147400-1730154600@tortuga-collectif.fr
SUMMARY:Voyage Sonore - Cercle de Femmes
DESCRIPTION:Coucou tout le monde !  \nRendez-vous le 28 octobre\, pour un voyage sonore\, à la yourte de tortuga. Nous te guiderons dans un doux voyage en toi même\, où tu pourras te déposer\, te relaxer avec le sons de nos voix et différents instruments : guitare\, ukulele\, kalimba\, bâton de pluie\, tambour….et autres surprises ! \nAmener un tapis de relaxation et une petite couverture. \nViens vers nous pour réserver ta place ! \nL’accueil se fera 15 min avant\, avec une tisane\, pour bien démarrer à l’heure ! \nPrix en don libre \nAvec joie de t’accueillir dans cet espace\, \nNoémie & Romane\n06 87 16 29 60 – 06 24 76 50 00
URL:https://tortuga-collectif.fr/event/voyage-sonore-cercle-de-femmes/
LOCATION:Hotel Louis Jean
ATTACH;FMTTYPE=image/jpeg:https://tortuga-collectif.fr/wp-content/uploads/2024/10/signal-2024-10-21-150830-002.jpeg
END:VEVENT
END:VCALENDAR