BEGIN:VCALENDAR
VERSION:2.0
PRODID:-//Tortuga Collectif - ECPv6.15.17//NONSGML v1.0//EN
CALSCALE:GREGORIAN
METHOD:PUBLISH
X-ORIGINAL-URL:https://tortuga-collectif.fr
X-WR-CALDESC:Évènements pour Tortuga Collectif
REFRESH-INTERVAL;VALUE=DURATION:PT1H
X-Robots-Tag:noindex
X-PUBLISHED-TTL:PT1H
BEGIN:VTIMEZONE
TZID:UTC
BEGIN:STANDARD
TZOFFSETFROM:+0000
TZOFFSETTO:+0000
TZNAME:UTC
DTSTART:20240101T000000
END:STANDARD
END:VTIMEZONE
BEGIN:VEVENT
DTSTART;TZID=UTC:20250111T090000
DTEND;TZID=UTC:20250111T163000
DTSTAMP:20260422T185516
CREATED:20250108T075741Z
LAST-MODIFIED:20250108T075853Z
UID:717-1736586000-1736613000@tortuga-collectif.fr
SUMMARY:Taille des pommiers + Elagage et bucheronnage des bois de haie
DESCRIPTION:Taille des pommiers + Elagage et bucheronnage des bois de haie au verger de pommiers haute tige . \nRdv à Tortuga à 9h pour un départ au verger à 9h30 ( pose repas de 12H30 à 14H ) jusqu’à 16h30.\nMerci de Prévenir de votre présence afin de prévoir les quantité de nourriture et le nombre de gâteaux ^^\nPensez aux bottes\, gangs et outils si vous en avez.
URL:https://tortuga-collectif.fr/event/taille-des-pommiers-elagage-et-bucheronnage-des-bois-de-haie/
CATEGORIES:venez Aider!
END:VEVENT
END:VCALENDAR