BEGIN:VCALENDAR
VERSION:2.0
PRODID:-//Tortuga Collectif - ECPv6.15.17//NONSGML v1.0//EN
CALSCALE:GREGORIAN
METHOD:PUBLISH
X-WR-CALNAME:Tortuga Collectif
X-ORIGINAL-URL:https://tortuga-collectif.fr
X-WR-CALDESC:Évènements pour Tortuga Collectif
REFRESH-INTERVAL;VALUE=DURATION:PT1H
X-Robots-Tag:noindex
X-PUBLISHED-TTL:PT1H
BEGIN:VTIMEZONE
TZID:UTC
BEGIN:STANDARD
TZOFFSETFROM:+0000
TZOFFSETTO:+0000
TZNAME:UTC
DTSTART:20240101T000000
END:STANDARD
END:VTIMEZONE
BEGIN:VEVENT
DTSTART;TZID=UTC:20250118T093000
DTEND;TZID=UTC:20250119T170000
DTSTAMP:20260422T185247
CREATED:20250108T074515Z
LAST-MODIFIED:20250108T075032Z
UID:703-1737192600-1737306000@tortuga-collectif.fr
SUMMARY:Session bois : bûcheronnage\, élagage des haies à Tortuga
DESCRIPTION:Session bois : bûcheronnage\, élagage des haies à Tortuga . Un peu partout pour entretien et bois de chauffe.\nLe dimanche 12 + samedi et dimanche 18 et 19 Janvier.\nRdv 9h30 à Tortuga !\nMerci de Prévenir de votre présence afin de prévoir les quantité de nourriture et le nombre de gâteaux ^^\nPensez aux bottes\, gangs et outils si vous en avez.
URL:https://tortuga-collectif.fr/event/session-bois-bucheronnage-elagage-des-haies-a-tortuga/
LOCATION:Hotel Louis Jean
CATEGORIES:venez Aider!
END:VEVENT
END:VCALENDAR