BEGIN:VCALENDAR
VERSION:2.0
PRODID:-//Tortuga Collectif - ECPv6.15.17//NONSGML v1.0//EN
CALSCALE:GREGORIAN
METHOD:PUBLISH
X-WR-CALNAME:Tortuga Collectif
X-ORIGINAL-URL:https://tortuga-collectif.fr
X-WR-CALDESC:Évènements pour Tortuga Collectif
REFRESH-INTERVAL;VALUE=DURATION:PT1H
X-Robots-Tag:noindex
X-PUBLISHED-TTL:PT1H
BEGIN:VTIMEZONE
TZID:UTC
BEGIN:STANDARD
TZOFFSETFROM:+0000
TZOFFSETTO:+0000
TZNAME:UTC
DTSTART:20240101T000000
END:STANDARD
END:VTIMEZONE
BEGIN:VEVENT
DTSTART;TZID=UTC:20250213T093000
DTEND;TZID=UTC:20250213T170000
DTSTAMP:20260422T172945
CREATED:20250116T133657Z
LAST-MODIFIED:20250116T135207Z
UID:747-1739439000-1739466000@tortuga-collectif.fr
SUMMARY:Division et Bouture
DESCRIPTION:Jeudi 13 Février\, 9h30 – 17h : Division et Bouture \nJournée pour où l’on va diviser des plan de cassis \, groseille et autre arbustes qui s’y prête pour les replanter dans notre belle forêt-jardin ; les boutures de vignes\, cassis … seront planter dans un petit espace pépinière à l’abri des chevreuils. \nAccessoire : bottes au minima \n 
URL:https://tortuga-collectif.fr/event/division-et-bouture/
CATEGORIES:atelier,venez Aider!
ATTACH;FMTTYPE=image/jpeg:https://tortuga-collectif.fr/wp-content/uploads/2025/01/boiutur-e.jpg
END:VEVENT
END:VCALENDAR