BEGIN:VCALENDAR
VERSION:2.0
PRODID:-//Tortuga Collectif - ECPv6.15.17//NONSGML v1.0//EN
CALSCALE:GREGORIAN
METHOD:PUBLISH
X-WR-CALNAME:Tortuga Collectif
X-ORIGINAL-URL:https://tortuga-collectif.fr
X-WR-CALDESC:Évènements pour Tortuga Collectif
REFRESH-INTERVAL;VALUE=DURATION:PT1H
X-Robots-Tag:noindex
X-PUBLISHED-TTL:PT1H
BEGIN:VTIMEZONE
TZID:UTC
BEGIN:STANDARD
TZOFFSETFROM:+0000
TZOFFSETTO:+0000
TZNAME:UTC
DTSTART:20240101T000000
END:STANDARD
END:VTIMEZONE
BEGIN:VEVENT
DTSTART;TZID=UTC:20250323T143000
DTEND;TZID=UTC:20250323T170000
DTSTAMP:20260422T160134
CREATED:20250310T121018Z
LAST-MODIFIED:20250310T121018Z
UID:790-1742740200-1742749200@tortuga-collectif.fr
SUMMARY:Assemblée générale de Tortuga
DESCRIPTION:dimanche 23 Mars à 14h30 \, ouvert à tous\, on va aborder le bilan de 2024 et les projets pour 2025.
URL:https://tortuga-collectif.fr/event/assemblee-generale-de-tortuga/
END:VEVENT
END:VCALENDAR