BEGIN:VCALENDAR
VERSION:2.0
PRODID:-//Tortuga Collectif - ECPv6.15.17//NONSGML v1.0//EN
CALSCALE:GREGORIAN
METHOD:PUBLISH
X-WR-CALNAME:Tortuga Collectif
X-ORIGINAL-URL:https://tortuga-collectif.fr
X-WR-CALDESC:Évènements pour Tortuga Collectif
REFRESH-INTERVAL;VALUE=DURATION:PT1H
X-Robots-Tag:noindex
X-PUBLISHED-TTL:PT1H
BEGIN:VTIMEZONE
TZID:UTC
BEGIN:STANDARD
TZOFFSETFROM:+0000
TZOFFSETTO:+0000
TZNAME:UTC
DTSTART:20240101T000000
END:STANDARD
END:VTIMEZONE
BEGIN:VEVENT
DTSTART;TZID=UTC:20250329T140000
DTEND;TZID=UTC:20250329T170000
DTSTAMP:20260421T114351
CREATED:20250108T133339Z
LAST-MODIFIED:20250310T120818Z
UID:727-1743256800-1743267600@tortuga-collectif.fr
SUMMARY:Atelier Greffe avec Jean-Pierre Thieré
DESCRIPTION:Atelier Greffe avec Jean-Pierre Thieré\, Samedi 29 Mars\nPassionné d’arbre et de greffe\, ancien pépiniériste et faisant parti des croqueurs de pomme\,\nJean Pierre va nous partager son savoir autour de la greffe dans notre belle forêt jardin et le bocage tortuguesque. \nArrivée pour le café conseillée à 14H\nDébut de l’activité 14H30\nInscription recommandée par retour de mail.\nNb: Si vous avez du matériel pour greffer\, n’hésitez pas à l’emmener ^^
URL:https://tortuga-collectif.fr/event/atelier-greffe-avec-jean-pierre-thiere/
CATEGORIES:atelier
ATTACH;FMTTYPE=image/jpeg:https://tortuga-collectif.fr/wp-content/uploads/2025/01/Sans-titre.jpg
END:VEVENT
END:VCALENDAR