BEGIN:VCALENDAR
VERSION:2.0
PRODID:-//Tortuga Collectif - ECPv6.15.17//NONSGML v1.0//EN
CALSCALE:GREGORIAN
METHOD:PUBLISH
X-WR-CALNAME:Tortuga Collectif
X-ORIGINAL-URL:https://tortuga-collectif.fr
X-WR-CALDESC:Évènements pour Tortuga Collectif
REFRESH-INTERVAL;VALUE=DURATION:PT1H
X-Robots-Tag:noindex
X-PUBLISHED-TTL:PT1H
BEGIN:VTIMEZONE
TZID:UTC
BEGIN:STANDARD
TZOFFSETFROM:+0000
TZOFFSETTO:+0000
TZNAME:UTC
DTSTART:20240101T000000
END:STANDARD
END:VTIMEZONE
BEGIN:VEVENT
DTSTART;TZID=UTC:20250216T100000
DTEND;TZID=UTC:20250216T170000
DTSTAMP:20260420T110032
CREATED:20250202T151514Z
LAST-MODIFIED:20250205T140100Z
UID:769-1739700000-1739725200@tortuga-collectif.fr
SUMMARY:[Complet] Atelier d'initiation à la culture de pleurottes sur bûche
DESCRIPTION:Atelier d’initiation à la culture de pleurottes sur bûche\nCOMPLET DESO! \nBonjour à tous.te ! \nAndré Gense\, apiculteur et myciculteur de son état\, se propose de venir animer un stage d’initiation à la culture de pleurottes sur bûche à tortuga le dimanche 16 février. L’idée serait de commencer par une partie théorie en matinée puis d’embrayer sur des travaux pratiques l’après midi après une pause repas. Le soir\, chacun pourra repartir chez soi avec une ou deux bûches champignonesques 😀 ! \nLa culture de champignons sur buches \nLe stage serait à prix libre et conscient\, et l’association proposera un repas le midi lui aussi prix libre. Afin que la journée puisse se dérouler dans des conditions optimales et que chacun puisse mettre la main à la pâte\, André préfère limiter le nombre de participants à 7 personnes. \nSi ça vous branche\, inscrivez vous en envoyant un message au 0631238222 avec vos noms et prénoms en précisant si vous avez un régime alimentaire particulier 🙂 \nOn recommuniquera un programme plus détaillé du stage dans la semaine\, à bientôt ! \n 
URL:https://tortuga-collectif.fr/event/atelier-dinitiation-a-la-culture-de-pleurottes-sur-buche/
CATEGORIES:atelier
ATTACH;FMTTYPE=image/jpeg:https://tortuga-collectif.fr/wp-content/uploads/2025/02/signal-2025-02-01-234803-002.jpeg
END:VEVENT
END:VCALENDAR