BEGIN:VCALENDAR
VERSION:2.0
PRODID:-//Tortuga Collectif - ECPv6.15.17//NONSGML v1.0//EN
CALSCALE:GREGORIAN
METHOD:PUBLISH
X-WR-CALNAME:Tortuga Collectif
X-ORIGINAL-URL:https://tortuga-collectif.fr
X-WR-CALDESC:Évènements pour Tortuga Collectif
REFRESH-INTERVAL;VALUE=DURATION:PT1H
X-Robots-Tag:noindex
X-PUBLISHED-TTL:PT1H
BEGIN:VTIMEZONE
TZID:UTC
BEGIN:STANDARD
TZOFFSETFROM:+0000
TZOFFSETTO:+0000
TZNAME:UTC
DTSTART:20230101T000000
END:STANDARD
END:VTIMEZONE
BEGIN:VEVENT
DTSTART;TZID=UTC:20240707T100000
DTEND;TZID=UTC:20240707T130000
DTSTAMP:20260423T022458
CREATED:20240522T102325Z
LAST-MODIFIED:20240807T120546Z
UID:205-1720346400-1720357200@tortuga-collectif.fr
SUMMARY:Marche de 4.6km pour représenter les 4\,6 milliards d'années de la planète Terre
DESCRIPTION:C’est une invitation à ralentir pour se reconnecter à nos origines. Marche contée et guidée parsemée de jeux\, de moments proches de la nature et d’éléments scientifiques pour retracer l’histoire de la Terre et les moments clés de la vie. \nA partir de 9 ans – Maximum 15 personnes – Participation Libre et Consciente + adhésion prix libre \nAuberge espagnol au retour de la marche
URL:https://tortuga-collectif.fr/event/marche-de-4-6km/
ATTACH;FMTTYPE=image/png:https://tortuga-collectif.fr/wp-content/uploads/2024/05/Marche-du-temps-profond-GP.png
END:VEVENT
BEGIN:VEVENT
DTSTART;TZID=UTC:20240708T190000
DTEND;TZID=UTC:20240708T233000
DTSTAMP:20260423T022458
CREATED:20240522T102621Z
LAST-MODIFIED:20240807T120554Z
UID:209-1720465200-1720481400@tortuga-collectif.fr
SUMMARY:Passage du bivouac des transitions
DESCRIPTION:Venez rencontrer le bivouac des transitions lundi 8 Juillet à partir de\n19H30. Découvrez ce qu’un direct radio et partager une soirée où des\nmusiciens\, des comédiens \, des poètes amateurs et professionnels vont\nfaire leur shwo sur la scène de Tortuga . Peut être que vous allez nous\nprésente votre talent?! \n20h-21h Émission de radio live \n21h Scène ouverte où les talents de toutes et tous sont conviés sur scène \nBuvette et crêpe sur place \nEntrée libre \, adhésion prix libre \nouverture du site dès 19h \n 
URL:https://tortuga-collectif.fr/event/passage-du-bivouac-des-transitions/
LOCATION:Hotel Louis Jean
ATTACH;FMTTYPE=image/jpeg:https://tortuga-collectif.fr/wp-content/uploads/2024/05/affiche-global.jpg
END:VEVENT
BEGIN:VEVENT
DTSTART;TZID=UTC:20240720T190000
DTEND;TZID=UTC:20240720T233000
DTSTAMP:20260423T022458
CREATED:20240711T104822Z
LAST-MODIFIED:20240807T125631Z
UID:360-1721502000-1721518200@tortuga-collectif.fr
SUMMARY:SOLO DE CLOWN - pour public dévergondé
DESCRIPTION:« Aux Armes et Tout et Tout » \nSolo de clown absurde\n(20 mn) \nNouvelle création. \nLe pitch : \n » Slavitch Le Sobre\, un bourreau pas ordinaire créé par un monde ordinaire. Portrait.  » \nOu le quotidien d’un ancien Bourreau militaire. \nTexte librement inspiré de\n » Écrits  » de Danill Harms \nCe spectacle n’est pas destiné à un public de jeunes enfants. \n \n » CRocRelle dans :\nJe suis une Femme…Point Virgule ;  » \nSolo de Clown pour public dévergondé\n(1h15 mn) \nLe pitch: \n » CRocRelle\, clowne naïve\, bestiale\, vit dans une décharge. Elle est enchantée par les cadeaux que lui offre Papa Noël : des sacs poubelles pleins de merveilles. Sur les chemins mouvementés de ses explorations\, CRocRelle se métamorphose et fini par découvrir avec étonnement sa propre féminité.  » \nCe solo sensible et percutant explore les thèmes de l’identité\, des féminités … et plus généralement de la solitude qu’engendrent nos sociétés de surconsommations.\nCRocRelle interpelle le public sur le regard qu’il porte face à la marginalité. \nCe spectacle n’est pas destiné à un public de jeunes enfants.\n( à partir de 12 ans) \n 
URL:https://tortuga-collectif.fr/event/solo-de-clown-pour-public-devergonde/
LOCATION:Hotel Louis Jean
ATTACH;FMTTYPE=image/png:https://tortuga-collectif.fr/wp-content/uploads/2024/07/signal-2024-07-11-14-44-54-336.png
END:VEVENT
END:VCALENDAR