BEGIN:VCALENDAR
VERSION:2.0
PRODID:-//Tortuga Collectif - ECPv6.15.17//NONSGML v1.0//EN
CALSCALE:GREGORIAN
METHOD:PUBLISH
X-ORIGINAL-URL:https://tortuga-collectif.fr
X-WR-CALDESC:Évènements pour Tortuga Collectif
REFRESH-INTERVAL;VALUE=DURATION:PT1H
X-Robots-Tag:noindex
X-PUBLISHED-TTL:PT1H
BEGIN:VTIMEZONE
TZID:UTC
BEGIN:STANDARD
TZOFFSETFROM:+0000
TZOFFSETTO:+0000
TZNAME:UTC
DTSTART:20230101T000000
END:STANDARD
END:VTIMEZONE
BEGIN:VEVENT
DTSTART;TZID=UTC:20240805T170000
DTEND;TZID=UTC:20240805T223000
DTSTAMP:20260423T005142
CREATED:20240703T095922Z
LAST-MODIFIED:20240807T123731Z
UID:321-1722877200-1722897000@tortuga-collectif.fr
SUMMARY:CONCERT Orchestre Cyclo Itinérant - Les Oiseaux de Trottoir
DESCRIPTION:Prix Libre et Conscient \n17h déambulation musicale à Saint-Sauveur \n18h Concert à l’Hotel Louis Jean
URL:https://tortuga-collectif.fr/event/concert-orchestre-cyclo-itinerant-les-oiseaux-de-trottoir/
ATTACH;FMTTYPE=image/jpeg:https://tortuga-collectif.fr/wp-content/uploads/2024/07/Tortuga.jpg
END:VEVENT
BEGIN:VEVENT
DTSTART;TZID=UTC:20240817T140000
DTEND;TZID=UTC:20240817T170000
DTSTAMP:20260423T005142
CREATED:20240812T100007Z
LAST-MODIFIED:20240812T103411Z
UID:495-1723903200-1723914000@tortuga-collectif.fr
SUMMARY:Atelier de Greffe sur Pommier et Rosier - Samedi 17 Août
DESCRIPTION:Samedi 17 Août\,\nnous accueillons Jean Pierre Thieré  qui nous offre un Atelier de Greffe.\nPartitionné d’arbre et de greffe\, ancien pépiniériste et faisant parti des croqueurs de pomme\,\nJean Pierre va nous enseigner la greffe en écusson sur pommier et rosier.\nC’est la première d’une grande aventure !\nCar au fur et à mesure des années nous allons découvrir plusieurs types de greffes sur plusieurs types d’arbres à différents moment de l’année.\nJe suis très heureuse que ce projet voit enfin le jour !Intervention au chapeau\,Entrée avec adhésion à prix libre à l’asso.  \n \nArrivée pour le café conseillée à 14H\nDébut de l’activité 14H30 \nInscription recommandée par retour de mail. \nUne belle semaine à vous ! \n\nSophie pour Tortuga\n\nNb: Si vous avez du matériel pour greffer\, n’hésitez pas à l’emmener ^^
URL:https://tortuga-collectif.fr/event/atelier-de-greffe-sur-pommier-et-rosier-samedi-17-aout/
LOCATION:Hotel Louis Jean
ATTACH;FMTTYPE=image/webp:https://tortuga-collectif.fr/wp-content/uploads/2024/08/greffe-l790-h526.jpg.webp
END:VEVENT
BEGIN:VEVENT
DTSTART;TZID=UTC:20240819T080000
DTEND;TZID=UTC:20240819T170000
DTSTAMP:20260423T005142
CREATED:20240812T100733Z
LAST-MODIFIED:20240812T193338Z
UID:501-1724054400-1724086800@tortuga-collectif.fr
SUMMARY:Cercle de Femmes - Lundi 19 Aout
DESCRIPTION:Rejoignez-nous pour une soirée unique et inspirante lors du Cercle de Femmes\, le lundi 19 août de 20h à 23h à la yourte de Tortuga\, au sein de l’Hôtel Louis Jean à Saint-Sauveur-Landelin. \nCe moment privilégié est une véritable invitation à la reconnexion avec soi-même et à la création de liens authentiques entre femmes. Dans une atmosphère bienveillante et chaleureuse\, vous aurez l’occasion de vous ressourcer à travers une diversité d’activités pensées pour éveiller vos sens et libérer votre énergie créative : \n\nChants envoûtants pour ouvrir votre voix et votre cœur\nDanses libres pour exprimer pleinement votre corps\nMoments de relaxation pour apaiser l’esprit et relâcher les tensions\nVoyages sonores pour plonger dans une expérience méditative profonde\nPeinture intuitive pour laisser jaillir votre créativité\nRituels de libération pour vous délester de ce qui ne vous sert plus\n\nAnimé par Noémie Laignel et Romane Ruault\, ce cercle est conçu pour offrir un espace de partage et de croissance personnelle\, où chaque participante peut s’exprimer librement et trouver un soutien bienveillant. \nQue vous soyez en quête de sérénité\, de transformation intérieure ou simplement d’un moment pour vous\, cet événement est fait pour vous. \nLa participation est libre à partir de 15 €. \nPour plus d’informations ou pour réserver votre place\, n’hésitez pas à nous contacter au 06 87 16 29 60 ou au 06 24 76 50 00. \nVenez vivre une soirée magique de connexion et de découverte\, et laissez-vous porter par l’énergie collective du Cercle de Femmes. \n 
URL:https://tortuga-collectif.fr/event/cercle-de-femmes-lundi-19-aout/
ATTACH;FMTTYPE=image/jpeg:https://tortuga-collectif.fr/wp-content/uploads/2024/08/2-20240808-162311-0001.jpg
END:VEVENT
END:VCALENDAR