BEGIN:VCALENDAR
VERSION:2.0
PRODID:-//Tortuga Collectif - ECPv6.15.17//NONSGML v1.0//EN
CALSCALE:GREGORIAN
METHOD:PUBLISH
X-WR-CALNAME:Tortuga Collectif
X-ORIGINAL-URL:https://tortuga-collectif.fr
X-WR-CALDESC:Évènements pour Tortuga Collectif
REFRESH-INTERVAL;VALUE=DURATION:PT1H
X-Robots-Tag:noindex
X-PUBLISHED-TTL:PT1H
BEGIN:VTIMEZONE
TZID:UTC
BEGIN:STANDARD
TZOFFSETFROM:+0000
TZOFFSETTO:+0000
TZNAME:UTC
DTSTART:20230101T000000
END:STANDARD
END:VTIMEZONE
BEGIN:VEVENT
DTSTART;TZID=UTC:20240907T080000
DTEND;TZID=UTC:20240908T170000
DTSTAMP:20260422T233138
CREATED:20240725T184812Z
LAST-MODIFIED:20240812T103233Z
UID:396-1725696000-1725814800@tortuga-collectif.fr
SUMMARY:Stage de Vannerie - du Samedi 7 au Dimanche 8 Septembre
DESCRIPTION:Stage de Vannerie \nSamantha et Yoyote créent des paniers qu’ils vendent sur la route depuis leur plus tendre enfance. Ils transmettent leur savoir-faire lors de stages. \nCes stages s’adressent à toute personne souhaitant s’initier aux techniques de créations de vannerie d’osier ; que vous soyez débutant au déjà pratiquant\, ils savent s’adapter au niveau de chacun-e en adaptant les ouvrages. \nVenez créer votre panier lors de ces deux jours de stage dans le cadre verdoyant de Tortuga en repartant avec votre création. \n  \n \n \nSUR INSCRIPTION \nTarif du stage de 2 jours : 180 € (durée 12h)\nLe tarif comprend :\n• Le stage avec un vannier professionnel\n• Votre vannerie avec laquelle vous repartez \nA prévoir en plus :\n• Adhésion à prix libre pour soutenir l’association\n• Emplacement camping + accès aux communs ( cuisine\, salon\, sanitaires) : 10 € / personnes.\n• Amener de quoi partager les repas ( 2 midis\, 1 soir\, 1 petit déjeuner). Le soir sera allumé un feu pour un barbecue.\n• Couteaux et sécateurs (si possible)\n• Si vous avez de l’osier sauvage n’hésitez pas à le ramener ainsi que vos paniers à réparer \nHoraire :\n• Le samedi\, de 10h à 13h et de 14h30 à 18h . Arrivée à 9h30 au plus tard\, possibilité de dormir sur place le vendredi soir.\n• Le dimanche\, de 10h à 13h et de 14h30 à 17h \nLieu : Tortuga\, hôtel Louis-Jean \, 50490 St Sauveur Lendelin. \nContact :\n• Mail : tortug@riseup.net\n• Tel : 0649070009 \n* Afin de permettre au plus grand nombre de pouvoir participer à ces stages : une tarification solidaire est mise en place.\nLes personnes nous annonçant avoir des difficultés financières pourront accéder au stage à hauteur de 150 €. Dans cet esprit de solidarité\, il est demandé aux personnes qui le peuvent de payer ce même stage 210 €.
URL:https://tortuga-collectif.fr/event/stage-de-vannerie-du-samedi-7-au-dimanche-8-septembre/
LOCATION:Hotel Louis Jean
CATEGORIES:atelier
ATTACH;FMTTYPE=image/jpeg:https://tortuga-collectif.fr/wp-content/uploads/2024/07/signal-2024-07-25-154230_006.jpeg
END:VEVENT
END:VCALENDAR