BEGIN:VCALENDAR
VERSION:2.0
PRODID:-//Tortuga Collectif - ECPv6.15.17//NONSGML v1.0//EN
CALSCALE:GREGORIAN
METHOD:PUBLISH
X-ORIGINAL-URL:https://tortuga-collectif.fr
X-WR-CALDESC:Évènements pour Tortuga Collectif
REFRESH-INTERVAL;VALUE=DURATION:PT1H
X-Robots-Tag:noindex
X-PUBLISHED-TTL:PT1H
BEGIN:VTIMEZONE
TZID:UTC
BEGIN:STANDARD
TZOFFSETFROM:+0000
TZOFFSETTO:+0000
TZNAME:UTC
DTSTART:20240101T000000
END:STANDARD
END:VTIMEZONE
BEGIN:VEVENT
DTSTART;TZID=UTC:20251004T140000
DTEND;TZID=UTC:20251005T010000
DTSTAMP:20260422T040727
CREATED:20250917T113924Z
LAST-MODIFIED:20250923T164329Z
UID:913-1759586400-1759626000@tortuga-collectif.fr
SUMMARY:Fête de la courge 2025
DESCRIPTION:Tortuga présente la \nFête de la courge\nle samedi 4 octobre 2025 \nde 14h à 1h \nConcourges\, ateliers\, jeux\, balade naturaliste & concert \nà Tortuga\, hôtel Louis-Jean\, chemin des boulangeries\, 50490 Saint-Sauveur-Villages \nPour nous aider à communiquer :\ntélécharger le KIT COMMUNICATION de la fête de la courge\n  \nAu programme : \n14h- Ouverture des portes \n• Crêpes et jeux toute l’après-midi\, vous y trouverez du lancer de courgettes passées sur hache\, du lancer de pommes dans la bétonnière et le pèse ta courge !\n• Ateliers pour enfant: construction de cabane en terre et peinture.\n• Un stand de coiffure\, de maquillage et une friperie seront proposés. \n14h30- Balade naturaliste et historique du site dans les Fonds de Terroirs avec Elise Piron (bottes recommandées) \n15h30- Atelier Cuisine. On y apprendra à découper et décliner des courges à toutes les sauces! Purée\, gratin\, velouté\, frites et gâteau ! \n15h30- Atelier d’écriture « Flânerie contemplative sur la voie verte » avec Morgane Regus (prévoir un carnet + stylo) \n18h- Le Grand Concourge ! « Un mix judicieux entre le défilé de mode et le concours agricole » selon Gazette Courgette. [lire ci-dessous] \n19h- Repas. C’est le moment de déguster toutes les préparations de l’atelier cuisine et des bénévoles ! \n20h- Cendre nous fera danser sur son set éclectique (non sans humour) mélangeant rap\, boom-bap et techno-folk entre autres joyeusetés. \nDès la tombée de la nuit : feu de camp ! \nPour finir : karaoké et musique jusqu’à 1h \n  \nSi vous avez des questions n’hésitez pas à les adresser par message à ce numéro 06 50 73 84 42 \nAu plaisir de partager cette fête de la courge avec vous ! \nL’équipe de Tortuga \n  \nGRAND CONCOURGE\n \n  \nSont invité⋅e⋅s à participer les maraicher⋅es comme les jardinier⋅es de la Manche\, qui pourront venir présenter leur meilleure courge de l’année 2025. \nLe / la gagnant⋅e sera désigné⋅e par un jury éclairé selon les critères suivants : \n1. Singularité de la courge  \n2. Qualité de présentation de la courge \n3. Qualité de déguisement du / de la producteur⋅ice \n  \nLes candidat⋅es seront appelés à défiler avec leur création sous le regard bienveillant du jury\, le / la vainqueur⋅euse se verra remettre la Médaille de la Courge Suprême. \nRèglement : \n1. La courge candidate doit être présentée à l’état solide. \n2. Il est bien entendu possible de maquiller et déguiser sa courge pour la présenter sous son meilleur jour. \n3. Nous demandons à tous les participants de rester dans une démarche de fair play et dans un strict respect de l’esprit coubertin. \n  \nLe défilé aura lieu aux alentours de 18h pendant la fête de la courge\, mais nous recommandons toutefois aux participant⋅es de venir se présenter 1 ou 2 h avant afin de préparer au mieux leur prestation. \nDeux catégories seront à l’honneur\, la première est réservée aux personnes ayant produite la courge avec laquelle ils se présentent\, la 2e est ouverte à celles et ceux qui viendront avec des courges d’adoption.* \n*tortuga fournira des courges à ceux qui souhaitent participer dans la 2e catégorie. \n  \nPour vous inscrire\, écrivez nous à l’adresse tortug@riseup.net ou par téléphone au 0631238222 en renseignant votre nom et prénom. \nPour nous aider à communiquer : télécharger le KIT COMMUNICATION de la fête de la courge
URL:https://tortuga-collectif.fr/event/fete-de-la-courge-2025/
LOCATION:Hotel Louis Jean
END:VEVENT
END:VCALENDAR